BEGIN:VCALENDAR
VERSION:2.0
PRODID:-//Sea Kings Baseball - ECPv6.15.20//NONSGML v1.0//EN
CALSCALE:GREGORIAN
METHOD:PUBLISH
X-ORIGINAL-URL:http://seakin.gs
X-WR-CALDESC:Events for Sea Kings Baseball
REFRESH-INTERVAL;VALUE=DURATION:PT1H
X-Robots-Tag:noindex
X-PUBLISHED-TTL:PT1H
BEGIN:VTIMEZONE
TZID:America/Los_Angeles
BEGIN:DAYLIGHT
TZOFFSETFROM:-0800
TZOFFSETTO:-0700
TZNAME:PDT
DTSTART:20230312T100000
END:DAYLIGHT
BEGIN:STANDARD
TZOFFSETFROM:-0700
TZOFFSETTO:-0800
TZNAME:PST
DTSTART:20231105T090000
END:STANDARD
BEGIN:DAYLIGHT
TZOFFSETFROM:-0800
TZOFFSETTO:-0700
TZNAME:PDT
DTSTART:20240310T100000
END:DAYLIGHT
BEGIN:STANDARD
TZOFFSETFROM:-0700
TZOFFSETTO:-0800
TZNAME:PST
DTSTART:20241103T090000
END:STANDARD
BEGIN:DAYLIGHT
TZOFFSETFROM:-0800
TZOFFSETTO:-0700
TZNAME:PDT
DTSTART:20250309T100000
END:DAYLIGHT
BEGIN:STANDARD
TZOFFSETFROM:-0700
TZOFFSETTO:-0800
TZNAME:PST
DTSTART:20251102T090000
END:STANDARD
END:VTIMEZONE
BEGIN:VEVENT
DTSTART;TZID=America/Los_Angeles:20241219T144500
DTEND;TZID=America/Los_Angeles:20241219T144500
DTSTAMP:20260419T170551
CREATED:20241126T112201Z
LAST-MODIFIED:20241126T112201Z
UID:86-1734619500-1734619500@seakin.gs
SUMMARY:Practice In Shorts - JV/Frosh
DESCRIPTION:
URL:http://seakin.gs/event/121924-2
LOCATION:CDM\, 2101 Eastbluff Drive\, Newport Beach\, CA\, 92660\, United States
CATEGORIES:Practice In Shorts
END:VEVENT
BEGIN:VEVENT
DTSTART;TZID=America/Los_Angeles:20241219T140500
DTEND;TZID=America/Los_Angeles:20241219T140500
DTSTAMP:20260419T170551
CREATED:20241126T113111Z
LAST-MODIFIED:20241126T113111Z
UID:96-1734617100-1734617100@seakin.gs
SUMMARY:Practice In Shorts - Varsity/JV
DESCRIPTION:
URL:http://seakin.gs/event/121924-1
LOCATION:CDM\, 2101 Eastbluff Drive\, Newport Beach\, CA\, 92660\, United States
CATEGORIES:Practice In Shorts
END:VEVENT
BEGIN:VEVENT
DTSTART;TZID=America/Los_Angeles:20241217T144500
DTEND;TZID=America/Los_Angeles:20241217T144500
DTSTAMP:20260419T170551
CREATED:20241126T112041Z
LAST-MODIFIED:20241126T112041Z
UID:84-1734446700-1734446700@seakin.gs
SUMMARY:Practice In Shorts - JV/Frosh
DESCRIPTION:
URL:http://seakin.gs/event/121724-2
LOCATION:CDM\, 2101 Eastbluff Drive\, Newport Beach\, CA\, 92660\, United States
CATEGORIES:Practice In Shorts
END:VEVENT
BEGIN:VEVENT
DTSTART;TZID=America/Los_Angeles:20241217T140500
DTEND;TZID=America/Los_Angeles:20241217T140500
DTSTAMP:20260419T170551
CREATED:20241126T112955Z
LAST-MODIFIED:20241126T112955Z
UID:94-1734444300-1734444300@seakin.gs
SUMMARY:Practice In Shorts - Varsity/JV
DESCRIPTION:
URL:http://seakin.gs/event/121724-1
LOCATION:CDM\, 2101 Eastbluff Drive\, Newport Beach\, CA\, 92660\, United States
CATEGORIES:Practice In Shorts
END:VEVENT
BEGIN:VEVENT
DTSTART;TZID=America/Los_Angeles:20241212T144500
DTEND;TZID=America/Los_Angeles:20241212T144500
DTSTAMP:20260419T170551
CREATED:20241126T111918Z
LAST-MODIFIED:20241126T111918Z
UID:82-1734014700-1734014700@seakin.gs
SUMMARY:Practice In Shorts - JV/Frosh
DESCRIPTION:
URL:http://seakin.gs/event/121224-2
LOCATION:CDM\, 2101 Eastbluff Drive\, Newport Beach\, CA\, 92660\, United States
CATEGORIES:Practice In Shorts
END:VEVENT
BEGIN:VEVENT
DTSTART;TZID=America/Los_Angeles:20241212T140500
DTEND;TZID=America/Los_Angeles:20241212T140500
DTSTAMP:20260419T170551
CREATED:20241126T112815Z
LAST-MODIFIED:20241126T112815Z
UID:92-1734012300-1734012300@seakin.gs
SUMMARY:Practice In Shorts - Varsity/JV
DESCRIPTION:
URL:http://seakin.gs/event/121224-1
LOCATION:CDM\, 2101 Eastbluff Drive\, Newport Beach\, CA\, 92660\, United States
CATEGORIES:Practice In Shorts
END:VEVENT
BEGIN:VEVENT
DTSTART;TZID=America/Los_Angeles:20241210T144500
DTEND;TZID=America/Los_Angeles:20241210T144500
DTSTAMP:20260419T170551
CREATED:20241126T111742Z
LAST-MODIFIED:20241126T111742Z
UID:80-1733841900-1733841900@seakin.gs
SUMMARY:Practice In Shorts - JV/Frosh
DESCRIPTION:
URL:http://seakin.gs/event/121024-2
LOCATION:CDM\, 2101 Eastbluff Drive\, Newport Beach\, CA\, 92660\, United States
CATEGORIES:Practice In Shorts
END:VEVENT
BEGIN:VEVENT
DTSTART;TZID=America/Los_Angeles:20241210T140500
DTEND;TZID=America/Los_Angeles:20241210T140500
DTSTAMP:20260419T170551
CREATED:20241126T112705Z
LAST-MODIFIED:20241126T112705Z
UID:90-1733839500-1733839500@seakin.gs
SUMMARY:Practice In Shorts - Varsity/JV
DESCRIPTION:
URL:http://seakin.gs/event/121024-1
LOCATION:CDM\, 2101 Eastbluff Drive\, Newport Beach\, CA\, 92660\, United States
CATEGORIES:Practice In Shorts
END:VEVENT
BEGIN:VEVENT
DTSTART;TZID=America/Los_Angeles:20241205T144500
DTEND;TZID=America/Los_Angeles:20241205T144500
DTSTAMP:20260419T170551
CREATED:20241126T111606Z
LAST-MODIFIED:20241126T111606Z
UID:78-1733409900-1733409900@seakin.gs
SUMMARY:Practice In Shorts - JV/Frosh
DESCRIPTION:
URL:http://seakin.gs/event/120524-2
LOCATION:CDM\, 2101 Eastbluff Drive\, Newport Beach\, CA\, 92660\, United States
CATEGORIES:Practice In Shorts
END:VEVENT
BEGIN:VEVENT
DTSTART;TZID=America/Los_Angeles:20241205T140500
DTEND;TZID=America/Los_Angeles:20241205T140500
DTSTAMP:20260419T170551
CREATED:20241126T112548Z
LAST-MODIFIED:20241126T112548Z
UID:88-1733407500-1733407500@seakin.gs
SUMMARY:Practice In Shorts - Varsity/JV
DESCRIPTION:
URL:http://seakin.gs/event/120524-1
LOCATION:CDM\, 2101 Eastbluff Drive\, Newport Beach\, CA\, 92660\, United States
CATEGORIES:Practice In Shorts
END:VEVENT
BEGIN:VEVENT
DTSTART;TZID=America/Los_Angeles:20241203T144500
DTEND;TZID=America/Los_Angeles:20241203T144500
DTSTAMP:20260419T170551
CREATED:20241126T110838Z
LAST-MODIFIED:20241126T110838Z
UID:76-1733237100-1733237100@seakin.gs
SUMMARY:Practice In Shorts - JV/Frosh
DESCRIPTION:
URL:http://seakin.gs/event/120324-2
LOCATION:CDM\, 2101 Eastbluff Drive\, Newport Beach\, CA\, 92660\, United States
CATEGORIES:Practice In Shorts
END:VEVENT
BEGIN:VEVENT
DTSTART;TZID=America/Los_Angeles:20241203T140500
DTEND;TZID=America/Los_Angeles:20241203T140500
DTSTAMP:20260419T170551
CREATED:20241126T110415Z
LAST-MODIFIED:20241126T110415Z
UID:70-1733234700-1733234700@seakin.gs
SUMMARY:Practice In Shorts - Varsity/JV
DESCRIPTION:
URL:http://seakin.gs/event/120324-1
LOCATION:CDM\, 2101 Eastbluff Drive\, Newport Beach\, CA\, 92660\, United States
CATEGORIES:Practice In Shorts
END:VEVENT
END:VCALENDAR