BEGIN:VCALENDAR
VERSION:2.0
PRODID:-//Sea Kings Baseball - ECPv6.15.20//NONSGML v1.0//EN
CALSCALE:GREGORIAN
METHOD:PUBLISH
X-ORIGINAL-URL:http://seakin.gs
X-WR-CALDESC:Events for Sea Kings Baseball
REFRESH-INTERVAL;VALUE=DURATION:PT1H
X-Robots-Tag:noindex
X-PUBLISHED-TTL:PT1H
BEGIN:VTIMEZONE
TZID:America/Los_Angeles
BEGIN:DAYLIGHT
TZOFFSETFROM:-0800
TZOFFSETTO:-0700
TZNAME:PDT
DTSTART:20240310T100000
END:DAYLIGHT
BEGIN:STANDARD
TZOFFSETFROM:-0700
TZOFFSETTO:-0800
TZNAME:PST
DTSTART:20241103T090000
END:STANDARD
BEGIN:DAYLIGHT
TZOFFSETFROM:-0800
TZOFFSETTO:-0700
TZNAME:PDT
DTSTART:20250309T100000
END:DAYLIGHT
BEGIN:STANDARD
TZOFFSETFROM:-0700
TZOFFSETTO:-0800
TZNAME:PST
DTSTART:20251102T090000
END:STANDARD
BEGIN:DAYLIGHT
TZOFFSETFROM:-0800
TZOFFSETTO:-0700
TZNAME:PDT
DTSTART:20260308T100000
END:DAYLIGHT
BEGIN:STANDARD
TZOFFSETFROM:-0700
TZOFFSETTO:-0800
TZNAME:PST
DTSTART:20261101T090000
END:STANDARD
END:VTIMEZONE
BEGIN:VEVENT
DTSTART;TZID=America/Los_Angeles:20250114T141500
DTEND;TZID=America/Los_Angeles:20250114T141500
DTSTAMP:20260421T055928
CREATED:20241220T013529Z
LAST-MODIFIED:20241220T013529Z
UID:905-1736864100-1736864100@seakin.gs
SUMMARY:Freshmen Practice
DESCRIPTION:
URL:http://seakin.gs/event/011425-6
LOCATION:CDM\, 2101 Eastbluff Drive\, Newport Beach\, CA\, 92660\, United States
CATEGORIES:Freshmen Practice
END:VEVENT
BEGIN:VEVENT
DTSTART;TZID=America/Los_Angeles:20250113T143000
DTEND;TZID=America/Los_Angeles:20250113T143000
DTSTAMP:20260421T055928
CREATED:20241220T012407Z
LAST-MODIFIED:20241220T012407Z
UID:899-1736778600-1736778600@seakin.gs
SUMMARY:Freshmen Practice
DESCRIPTION:
URL:http://seakin.gs/event/011325-6
LOCATION:CDM\, 2101 Eastbluff Drive\, Newport Beach\, CA\, 92660\, United States
CATEGORIES:Freshmen Practice
END:VEVENT
BEGIN:VEVENT
DTSTART;TZID=America/Los_Angeles:20250109T021500
DTEND;TZID=America/Los_Angeles:20250109T021500
DTSTAMP:20260421T055928
CREATED:20241220T004920Z
LAST-MODIFIED:20241220T004920Z
UID:887-1736388900-1736388900@seakin.gs
SUMMARY:Freshmen Practice
DESCRIPTION:
URL:http://seakin.gs/event/010925-6
LOCATION:CDM\, 2101 Eastbluff Drive\, Newport Beach\, CA\, 92660\, United States
CATEGORIES:Freshmen Practice
END:VEVENT
BEGIN:VEVENT
DTSTART;TZID=America/Los_Angeles:20250107T141500
DTEND;TZID=America/Los_Angeles:20250107T141500
DTSTAMP:20260421T055928
CREATED:20241219T101411Z
LAST-MODIFIED:20241219T101411Z
UID:870-1736259300-1736259300@seakin.gs
SUMMARY:Freshmen Practice
DESCRIPTION:
URL:http://seakin.gs/event/010725-6
LOCATION:CDM\, 2101 Eastbluff Drive\, Newport Beach\, CA\, 92660\, United States
CATEGORIES:Freshmen Practice
END:VEVENT
BEGIN:VEVENT
DTSTART;TZID=America/Los_Angeles:20250106T143000
DTEND;TZID=America/Los_Angeles:20250106T143000
DTSTAMP:20260421T055928
CREATED:20241219T101020Z
LAST-MODIFIED:20241219T101020Z
UID:866-1736173800-1736173800@seakin.gs
SUMMARY:Freshmen Practice
DESCRIPTION:
URL:http://seakin.gs/event/010625-6
LOCATION:CDM\, 2101 Eastbluff Drive\, Newport Beach\, CA\, 92660\, United States
CATEGORIES:Freshmen Practice
END:VEVENT
END:VCALENDAR