BEGIN:VCALENDAR
VERSION:2.0
PRODID:-//Sea Kings Baseball - ECPv6.15.20//NONSGML v1.0//EN
CALSCALE:GREGORIAN
METHOD:PUBLISH
X-WR-CALNAME:Sea Kings Baseball
X-ORIGINAL-URL:http://seakin.gs
X-WR-CALDESC:Events for Sea Kings Baseball
REFRESH-INTERVAL;VALUE=DURATION:PT1H
X-Robots-Tag:noindex
X-PUBLISHED-TTL:PT1H
BEGIN:VTIMEZONE
TZID:America/Los_Angeles
BEGIN:DAYLIGHT
TZOFFSETFROM:-0800
TZOFFSETTO:-0700
TZNAME:PDT
DTSTART:20240310T100000
END:DAYLIGHT
BEGIN:STANDARD
TZOFFSETFROM:-0700
TZOFFSETTO:-0800
TZNAME:PST
DTSTART:20241103T090000
END:STANDARD
BEGIN:DAYLIGHT
TZOFFSETFROM:-0800
TZOFFSETTO:-0700
TZNAME:PDT
DTSTART:20250309T100000
END:DAYLIGHT
BEGIN:STANDARD
TZOFFSETFROM:-0700
TZOFFSETTO:-0800
TZNAME:PST
DTSTART:20251102T090000
END:STANDARD
BEGIN:DAYLIGHT
TZOFFSETFROM:-0800
TZOFFSETTO:-0700
TZNAME:PDT
DTSTART:20260308T100000
END:DAYLIGHT
BEGIN:STANDARD
TZOFFSETFROM:-0700
TZOFFSETTO:-0800
TZNAME:PST
DTSTART:20261101T090000
END:STANDARD
END:VTIMEZONE
BEGIN:VEVENT
DTSTART;TZID=America/Los_Angeles:20250212T144500
DTEND;TZID=America/Los_Angeles:20250212T144500
DTSTAMP:20260419T075839
CREATED:20241221T084500Z
LAST-MODIFIED:20241221T084500Z
UID:1030-1739371500-1739371500@seakin.gs
SUMMARY:Varsity @ Trabuco Hills
DESCRIPTION:
URL:http://seakin.gs/event/021225-1
LOCATION:Trabuco Hills High School\, 27501 Mustang Run\, Mission Viejo\, CA\, 92691\, United States
CATEGORIES:Varsity Scrimmage
END:VEVENT
BEGIN:VEVENT
DTSTART;TZID=America/Los_Angeles:20250212T141500
DTEND;TZID=America/Los_Angeles:20250212T141500
DTSTAMP:20260419T075839
CREATED:20250115T100125Z
LAST-MODIFIED:20250115T100125Z
UID:1303-1739369700-1739369700@seakin.gs
SUMMARY:JV Practice
DESCRIPTION:
URL:http://seakin.gs/event/021225-5
LOCATION:CDM\, 2101 Eastbluff Drive\, Newport Beach\, CA\, 92660\, United States
CATEGORIES:JV Practice
END:VEVENT
BEGIN:VEVENT
DTSTART;TZID=America/Los_Angeles:20250211T141500
DTEND;TZID=America/Los_Angeles:20250211T141500
DTSTAMP:20260419T075839
CREATED:20241221T075426Z
LAST-MODIFIED:20250115T095923Z
UID:992-1739283300-1739283300@seakin.gs
SUMMARY:JV Practice
DESCRIPTION:
URL:http://seakin.gs/event/021125-5
LOCATION:CDM\, 2101 Eastbluff Drive\, Newport Beach\, CA\, 92660\, United States
CATEGORIES:JV Practice
END:VEVENT
BEGIN:VEVENT
DTSTART;TZID=America/Los_Angeles:20250211T141500
DTEND;TZID=America/Los_Angeles:20250211T141500
DTSTAMP:20260419T075839
CREATED:20241221T075317Z
LAST-MODIFIED:20241221T075317Z
UID:990-1739283300-1739283300@seakin.gs
SUMMARY:Freshmen Practice
DESCRIPTION:
URL:http://seakin.gs/event/021125-6
LOCATION:CDM\, 2101 Eastbluff Drive\, Newport Beach\, CA\, 92660\, United States
CATEGORIES:Freshmen Practice
END:VEVENT
BEGIN:VEVENT
DTSTART;TZID=America/Los_Angeles:20250211T141500
DTEND;TZID=America/Los_Angeles:20250211T141500
DTSTAMP:20260419T075839
CREATED:20241221T075122Z
LAST-MODIFIED:20250115T100447Z
UID:988-1739283300-1739283300@seakin.gs
SUMMARY:Varsity Practice
DESCRIPTION:
URL:http://seakin.gs/event/021125-4
LOCATION:CDM\, 2101 Eastbluff Drive\, Newport Beach\, CA\, 92660\, United States
CATEGORIES:Varsity Practice
END:VEVENT
BEGIN:VEVENT
DTSTART;TZID=America/Los_Angeles:20250210T143000
DTEND;TZID=America/Los_Angeles:20250210T143000
DTSTAMP:20260419T075839
CREATED:20241221T085154Z
LAST-MODIFIED:20250211T113212Z
UID:1036-1739197800-1739197800@seakin.gs
SUMMARY:Varsity vs. Esperanza
DESCRIPTION:
URL:http://seakin.gs/event/020825-1
LOCATION:CDM\, 2101 Eastbluff Drive\, Newport Beach\, CA\, 92660\, United States
CATEGORIES:Varsity Scrimmage
END:VEVENT
BEGIN:VEVENT
DTSTART;TZID=America/Los_Angeles:20250210T143000
DTEND;TZID=America/Los_Angeles:20250210T143000
DTSTAMP:20260419T075839
CREATED:20241221T074926Z
LAST-MODIFIED:20250115T100329Z
UID:986-1739197800-1739197800@seakin.gs
SUMMARY:JV Practice
DESCRIPTION:
URL:http://seakin.gs/event/021025-5
LOCATION:CDM\, 2101 Eastbluff Drive\, Newport Beach\, CA\, 92660\, United States
CATEGORIES:JV Practice
END:VEVENT
BEGIN:VEVENT
DTSTART;TZID=America/Los_Angeles:20250210T143000
DTEND;TZID=America/Los_Angeles:20250210T143000
DTSTAMP:20260419T075839
CREATED:20241221T074758Z
LAST-MODIFIED:20241221T074758Z
UID:984-1739197800-1739197800@seakin.gs
SUMMARY:Freshmen Practice
DESCRIPTION:
URL:http://seakin.gs/event/021025-6
LOCATION:CDM\, 2101 Eastbluff Drive\, Newport Beach\, CA\, 92660\, United States
CATEGORIES:Freshmen Practice
END:VEVENT
BEGIN:VEVENT
DTSTART;TZID=America/Los_Angeles:20250208T100000
DTEND;TZID=America/Los_Angeles:20250208T100000
DTSTAMP:20260419T075839
CREATED:20241221T085032Z
LAST-MODIFIED:20241221T085032Z
UID:1034-1739008800-1739008800@seakin.gs
SUMMARY:Freshmen/JV @ Esperanza
DESCRIPTION:
URL:http://seakin.gs/event/020825-2
LOCATION:Esperanza High School\, 1830 N. Kellogg Drive\, Anaheim\, CA\, 92807\, United States
CATEGORIES:Freshmen Scrimmage,JV Scrimmage
END:VEVENT
BEGIN:VEVENT
DTSTART;TZID=America/Los_Angeles:20250207T141500
DTEND;TZID=America/Los_Angeles:20250207T141500
DTSTAMP:20260419T075839
CREATED:20241221T074427Z
LAST-MODIFIED:20250115T095614Z
UID:980-1738937700-1738937700@seakin.gs
SUMMARY:JV Practice
DESCRIPTION:
URL:http://seakin.gs/event/020725-5
LOCATION:CDM\, 2101 Eastbluff Drive\, Newport Beach\, CA\, 92660\, United States
CATEGORIES:JV Practice
END:VEVENT
BEGIN:VEVENT
DTSTART;TZID=America/Los_Angeles:20250207T141500
DTEND;TZID=America/Los_Angeles:20250207T141500
DTSTAMP:20260419T075839
CREATED:20241221T074142Z
LAST-MODIFIED:20241221T074142Z
UID:976-1738937700-1738937700@seakin.gs
SUMMARY:Freshmen Practice
DESCRIPTION:
URL:http://seakin.gs/event/020725-6
LOCATION:CDM\, 2101 Eastbluff Drive\, Newport Beach\, CA\, 92660\, United States
CATEGORIES:Freshmen Practice
END:VEVENT
BEGIN:VEVENT
DTSTART;TZID=America/Los_Angeles:20250207T141500
DTEND;TZID=America/Los_Angeles:20250207T141500
DTSTAMP:20260419T075839
CREATED:20241221T073837Z
LAST-MODIFIED:20241221T073837Z
UID:972-1738937700-1738937700@seakin.gs
SUMMARY:Varsity Practice
DESCRIPTION:
URL:http://seakin.gs/event/020725-4
LOCATION:CDM\, 2101 Eastbluff Drive\, Newport Beach\, CA\, 92660\, United States
CATEGORIES:Varsity Practice
END:VEVENT
BEGIN:VEVENT
DTSTART;TZID=America/Los_Angeles:20250206T141500
DTEND;TZID=America/Los_Angeles:20250206T141500
DTSTAMP:20260419T075839
CREATED:20241221T074311Z
LAST-MODIFIED:20250115T095518Z
UID:978-1738851300-1738851300@seakin.gs
SUMMARY:JV Practice
DESCRIPTION:
URL:http://seakin.gs/event/020625-5
LOCATION:CDM\, 2101 Eastbluff Drive\, Newport Beach\, CA\, 92660\, United States
CATEGORIES:JV Practice
END:VEVENT
BEGIN:VEVENT
DTSTART;TZID=America/Los_Angeles:20250206T141500
DTEND;TZID=America/Los_Angeles:20250206T141500
DTSTAMP:20260419T075839
CREATED:20241221T074018Z
LAST-MODIFIED:20241221T074018Z
UID:974-1738851300-1738851300@seakin.gs
SUMMARY:Freshmen Practice
DESCRIPTION:
URL:http://seakin.gs/event/020625-6
LOCATION:CDM\, 2101 Eastbluff Drive\, Newport Beach\, CA\, 92660\, United States
CATEGORIES:Freshmen Practice
END:VEVENT
BEGIN:VEVENT
DTSTART;TZID=America/Los_Angeles:20250206T141500
DTEND;TZID=America/Los_Angeles:20250206T141500
DTSTAMP:20260419T075839
CREATED:20241221T073710Z
LAST-MODIFIED:20241221T073710Z
UID:970-1738851300-1738851300@seakin.gs
SUMMARY:Varsity Practice
DESCRIPTION:
URL:http://seakin.gs/event/020625-4
LOCATION:CDM\, 2101 Eastbluff Drive\, Newport Beach\, CA\, 92660\, United States
CATEGORIES:Varsity Practice
END:VEVENT
BEGIN:VEVENT
DTSTART;TZID=America/Los_Angeles:20250205T150000
DTEND;TZID=America/Los_Angeles:20250205T150000
DTSTAMP:20260419T075839
CREATED:20241221T083444Z
LAST-MODIFIED:20241221T083444Z
UID:1024-1738767600-1738767600@seakin.gs
SUMMARY:Varsity vs. Pacifica Christian
DESCRIPTION:
URL:http://seakin.gs/event/020525-1
LOCATION:CDM\, 2101 Eastbluff Drive\, Newport Beach\, CA\, 92660\, United States
CATEGORIES:Varsity Scrimmage
END:VEVENT
BEGIN:VEVENT
DTSTART;TZID=America/Los_Angeles:20250205T141500
DTEND;TZID=America/Los_Angeles:20250205T141500
DTSTAMP:20260419T075839
CREATED:20250115T095400Z
LAST-MODIFIED:20250115T095400Z
UID:1301-1738764900-1738764900@seakin.gs
SUMMARY:Freshmen Practice
DESCRIPTION:
URL:http://seakin.gs/event/020525-6
LOCATION:CDM\, 2101 Eastbluff Drive\, Newport Beach\, CA\, 92660\, United States
CATEGORIES:Freshmen Practice
END:VEVENT
BEGIN:VEVENT
DTSTART;TZID=America/Los_Angeles:20250205T141500
DTEND;TZID=America/Los_Angeles:20250205T141500
DTSTAMP:20260419T075839
CREATED:20250115T095215Z
LAST-MODIFIED:20250115T095215Z
UID:1299-1738764900-1738764900@seakin.gs
SUMMARY:JV Practice
DESCRIPTION:
URL:http://seakin.gs/event/020525-5
LOCATION:CDM\, 2101 Eastbluff Drive\, Newport Beach\, CA\, 92660\, United States
CATEGORIES:JV Practice
END:VEVENT
BEGIN:VEVENT
DTSTART;TZID=America/Los_Angeles:20250204T141500
DTEND;TZID=America/Los_Angeles:20250204T141500
DTSTAMP:20260419T075839
CREATED:20241221T073528Z
LAST-MODIFIED:20250115T094854Z
UID:968-1738678500-1738678500@seakin.gs
SUMMARY:JV Practice
DESCRIPTION:
URL:http://seakin.gs/event/020425-5
LOCATION:CDM\, 2101 Eastbluff Drive\, Newport Beach\, CA\, 92660\, United States
CATEGORIES:JV Practice
END:VEVENT
BEGIN:VEVENT
DTSTART;TZID=America/Los_Angeles:20250204T141500
DTEND;TZID=America/Los_Angeles:20250204T141500
DTSTAMP:20260419T075839
CREATED:20241221T073355Z
LAST-MODIFIED:20241221T073355Z
UID:966-1738678500-1738678500@seakin.gs
SUMMARY:Freshmen Practice
DESCRIPTION:
URL:http://seakin.gs/event/020425-6
LOCATION:CDM\, 2101 Eastbluff Drive\, Newport Beach\, CA\, 92660\, United States
CATEGORIES:Freshmen Practice
END:VEVENT
BEGIN:VEVENT
DTSTART;TZID=America/Los_Angeles:20250204T141500
DTEND;TZID=America/Los_Angeles:20250204T141500
DTSTAMP:20260419T075839
CREATED:20241221T073226Z
LAST-MODIFIED:20241221T073226Z
UID:964-1738678500-1738678500@seakin.gs
SUMMARY:Varsity Practice
DESCRIPTION:
URL:http://seakin.gs/event/020425-4
LOCATION:CDM\, 2101 Eastbluff Drive\, Newport Beach\, CA\, 92660\, United States
CATEGORIES:Varsity Practice
END:VEVENT
BEGIN:VEVENT
DTSTART;TZID=America/Los_Angeles:20250203T143000
DTEND;TZID=America/Los_Angeles:20250203T143000
DTSTAMP:20260419T075839
CREATED:20241221T073011Z
LAST-MODIFIED:20250115T094750Z
UID:962-1738593000-1738593000@seakin.gs
SUMMARY:JV Practice
DESCRIPTION:
URL:http://seakin.gs/event/020325-5
LOCATION:CDM\, 2101 Eastbluff Drive\, Newport Beach\, CA\, 92660\, United States
CATEGORIES:JV Practice
END:VEVENT
BEGIN:VEVENT
DTSTART;TZID=America/Los_Angeles:20250203T143000
DTEND;TZID=America/Los_Angeles:20250203T143000
DTSTAMP:20260419T075839
CREATED:20241221T072848Z
LAST-MODIFIED:20241221T072848Z
UID:960-1738593000-1738593000@seakin.gs
SUMMARY:Freshmen Practice
DESCRIPTION:
URL:http://seakin.gs/event/020325-6
LOCATION:CDM\, 2101 Eastbluff Drive\, Newport Beach\, CA\, 92660\, United States
CATEGORIES:Freshmen Practice
END:VEVENT
BEGIN:VEVENT
DTSTART;TZID=America/Los_Angeles:20250203T143000
DTEND;TZID=America/Los_Angeles:20250203T143000
DTSTAMP:20260419T075839
CREATED:20241221T072727Z
LAST-MODIFIED:20241221T072727Z
UID:958-1738593000-1738593000@seakin.gs
SUMMARY:Varsity Practice
DESCRIPTION:
URL:http://seakin.gs/event/020325-4
LOCATION:CDM\, 2101 Eastbluff Drive\, Newport Beach\, CA\, 92660\, United States
CATEGORIES:Varsity Practice
END:VEVENT
BEGIN:VEVENT
DTSTART;TZID=America/Los_Angeles:20250131T150000
DTEND;TZID=America/Los_Angeles:20250131T150000
DTSTAMP:20260419T075839
CREATED:20241220T010638Z
LAST-MODIFIED:20250115T094203Z
UID:893-1738335600-1738335600@seakin.gs
SUMMARY:JV @ Tesoro
DESCRIPTION:
URL:http://seakin.gs/event/011025-2
LOCATION:Tesoro High School\, 1 Tesoro Creek Rd\, Las Flores\, CA\, 92688\, United States
CATEGORIES:JV Scrimmage
END:VEVENT
BEGIN:VEVENT
DTSTART;TZID=America/Los_Angeles:20250131T150000
DTEND;TZID=America/Los_Angeles:20250131T150000
DTSTAMP:20260419T075839
CREATED:20241220T005909Z
LAST-MODIFIED:20250129T193959Z
UID:891-1738335600-1738335600@seakin.gs
SUMMARY:Varsity @ Tesoro
DESCRIPTION:
URL:http://seakin.gs/event/011025-1
LOCATION:Tesoro High School\, 1 Tesoro Creek Rd\, Las Flores\, CA\, 92688\, United States
CATEGORIES:Varsity Scrimmage
END:VEVENT
BEGIN:VEVENT
DTSTART;TZID=America/Los_Angeles:20250130T141500
DTEND;TZID=America/Los_Angeles:20250130T141500
DTSTAMP:20260419T075839
CREATED:20241220T025859Z
LAST-MODIFIED:20250115T093913Z
UID:954-1738246500-1738246500@seakin.gs
SUMMARY:JV Practice
DESCRIPTION:
URL:http://seakin.gs/event/013025-5
LOCATION:CDM\, 2101 Eastbluff Drive\, Newport Beach\, CA\, 92660\, United States
CATEGORIES:JV Practice
END:VEVENT
BEGIN:VEVENT
DTSTART;TZID=America/Los_Angeles:20250130T141500
DTEND;TZID=America/Los_Angeles:20250130T141500
DTSTAMP:20260419T075839
CREATED:20241220T025653Z
LAST-MODIFIED:20241220T025653Z
UID:950-1738246500-1738246500@seakin.gs
SUMMARY:Freshmen Practice
DESCRIPTION:
URL:http://seakin.gs/event/013025-6
LOCATION:CDM\, 2101 Eastbluff Drive\, Newport Beach\, CA\, 92660\, United States
CATEGORIES:Freshmen Practice
END:VEVENT
BEGIN:VEVENT
DTSTART;TZID=America/Los_Angeles:20250130T141500
DTEND;TZID=America/Los_Angeles:20250130T141500
DTSTAMP:20260419T075839
CREATED:20241220T025454Z
LAST-MODIFIED:20241220T025454Z
UID:946-1738246500-1738246500@seakin.gs
SUMMARY:Varsity Practice
DESCRIPTION:
URL:http://seakin.gs/event/103025-4
LOCATION:CDM\, 2101 Eastbluff Drive\, Newport Beach\, CA\, 92660\, United States
CATEGORIES:Varsity Practice
END:VEVENT
BEGIN:VEVENT
DTSTART;TZID=America/Los_Angeles:20250129T151500
DTEND;TZID=America/Los_Angeles:20250129T151500
DTSTAMP:20260419T075839
CREATED:20241220T024548Z
LAST-MODIFIED:20241220T024548Z
UID:938-1738163700-1738163700@seakin.gs
SUMMARY:Varsity @ Capo Valley Christian
DESCRIPTION:
URL:http://seakin.gs/event/012925-1
LOCATION:San Juan Sports Park\, 1 Via Positiva\, San Juan Capistrano\, CA\, 92675\, United States
CATEGORIES:Varsity Scrimmage
END:VEVENT
END:VCALENDAR