BEGIN:VCALENDAR
VERSION:2.0
PRODID:-//Sea Kings Baseball - ECPv6.15.20//NONSGML v1.0//EN
CALSCALE:GREGORIAN
METHOD:PUBLISH
X-WR-CALNAME:Sea Kings Baseball
X-ORIGINAL-URL:https://seakin.gs
X-WR-CALDESC:Events for Sea Kings Baseball
REFRESH-INTERVAL;VALUE=DURATION:PT1H
X-Robots-Tag:noindex
X-PUBLISHED-TTL:PT1H
BEGIN:VTIMEZONE
TZID:America/Los_Angeles
BEGIN:DAYLIGHT
TZOFFSETFROM:-0800
TZOFFSETTO:-0700
TZNAME:PDT
DTSTART:20240310T100000
END:DAYLIGHT
BEGIN:STANDARD
TZOFFSETFROM:-0700
TZOFFSETTO:-0800
TZNAME:PST
DTSTART:20241103T090000
END:STANDARD
BEGIN:DAYLIGHT
TZOFFSETFROM:-0800
TZOFFSETTO:-0700
TZNAME:PDT
DTSTART:20250309T100000
END:DAYLIGHT
BEGIN:STANDARD
TZOFFSETFROM:-0700
TZOFFSETTO:-0800
TZNAME:PST
DTSTART:20251102T090000
END:STANDARD
BEGIN:DAYLIGHT
TZOFFSETFROM:-0800
TZOFFSETTO:-0700
TZNAME:PDT
DTSTART:20260308T100000
END:DAYLIGHT
BEGIN:STANDARD
TZOFFSETFROM:-0700
TZOFFSETTO:-0800
TZNAME:PST
DTSTART:20261101T090000
END:STANDARD
END:VTIMEZONE
BEGIN:VEVENT
DTSTART;TZID=America/Los_Angeles:20250128T141500
DTEND;TZID=America/Los_Angeles:20250128T141500
DTSTAMP:20260419T060903
CREATED:20241220T025313Z
LAST-MODIFIED:20250115T093728Z
UID:944-1738073700-1738073700@seakin.gs
SUMMARY:JV Practice
DESCRIPTION:
URL:https://seakin.gs/event/012825-5
LOCATION:CDM\, 2101 Eastbluff Drive\, Newport Beach\, CA\, 92660\, United States
CATEGORIES:JV Practice
END:VEVENT
BEGIN:VEVENT
DTSTART;TZID=America/Los_Angeles:20250123T141500
DTEND;TZID=America/Los_Angeles:20250123T141500
DTSTAMP:20260419T060903
CREATED:20241220T024137Z
LAST-MODIFIED:20250115T093605Z
UID:936-1737641700-1737641700@seakin.gs
SUMMARY:JV Practice
DESCRIPTION:
URL:https://seakin.gs/event/012325-5
LOCATION:CDM\, 2101 Eastbluff Drive\, Newport Beach\, CA\, 92660\, United States
CATEGORIES:JV Practice
END:VEVENT
BEGIN:VEVENT
DTSTART;TZID=America/Los_Angeles:20250121T141500
DTEND;TZID=America/Los_Angeles:20250121T141500
DTSTAMP:20260419T060903
CREATED:20241220T022946Z
LAST-MODIFIED:20250115T093434Z
UID:925-1737468900-1737468900@seakin.gs
SUMMARY:JV Practice
DESCRIPTION:
URL:https://seakin.gs/event/012125-5
LOCATION:CDM\, 2101 Eastbluff Drive\, Newport Beach\, CA\, 92660\, United States
CATEGORIES:JV Practice
END:VEVENT
BEGIN:VEVENT
DTSTART;TZID=America/Los_Angeles:20250116T141500
DTEND;TZID=America/Los_Angeles:20250116T141500
DTSTAMP:20260419T060903
CREATED:20241220T021704Z
LAST-MODIFIED:20250115T092334Z
UID:915-1737036900-1737036900@seakin.gs
SUMMARY:JV Practice
DESCRIPTION:
URL:https://seakin.gs/event/011625-5
LOCATION:CDM\, 2101 Eastbluff Drive\, Newport Beach\, CA\, 92660\, United States
CATEGORIES:JV Practice
END:VEVENT
BEGIN:VEVENT
DTSTART;TZID=America/Los_Angeles:20250114T144500
DTEND;TZID=America/Los_Angeles:20250114T144500
DTSTAMP:20260419T060903
CREATED:20241220T013652Z
LAST-MODIFIED:20241220T013652Z
UID:907-1736865900-1736865900@seakin.gs
SUMMARY:JV Practice
DESCRIPTION:
URL:https://seakin.gs/event/011425-5
LOCATION:CDM\, 2101 Eastbluff Drive\, Newport Beach\, CA\, 92660\, United States
CATEGORIES:JV Practice
END:VEVENT
BEGIN:VEVENT
DTSTART;TZID=America/Los_Angeles:20250113T144500
DTEND;TZID=America/Los_Angeles:20250113T144500
DTSTAMP:20260419T060903
CREATED:20241220T012715Z
LAST-MODIFIED:20241220T012715Z
UID:901-1736779500-1736779500@seakin.gs
SUMMARY:JV Practice
DESCRIPTION:
URL:https://seakin.gs/event/011325-5
LOCATION:CDM\, 2101 Eastbluff Drive\, Newport Beach\, CA\, 92660\, United States
CATEGORIES:JV Practice
END:VEVENT
BEGIN:VEVENT
DTSTART;TZID=America/Los_Angeles:20250109T144500
DTEND;TZID=America/Los_Angeles:20250109T144500
DTSTAMP:20260419T060903
CREATED:20241220T005045Z
LAST-MODIFIED:20241220T005045Z
UID:889-1736433900-1736433900@seakin.gs
SUMMARY:JV Practice
DESCRIPTION:
URL:https://seakin.gs/event/010925-5
LOCATION:CDM\, 2101 Eastbluff Drive\, Newport Beach\, CA\, 92660\, United States
CATEGORIES:JV Practice
END:VEVENT
BEGIN:VEVENT
DTSTART;TZID=America/Los_Angeles:20250107T144500
DTEND;TZID=America/Los_Angeles:20250107T144500
DTSTAMP:20260419T060903
CREATED:20241219T101535Z
LAST-MODIFIED:20241219T101535Z
UID:872-1736261100-1736261100@seakin.gs
SUMMARY:JV Practice
DESCRIPTION:
URL:https://seakin.gs/event/010725-5
LOCATION:CDM\, 2101 Eastbluff Drive\, Newport Beach\, CA\, 92660\, United States
CATEGORIES:JV Practice
END:VEVENT
BEGIN:VEVENT
DTSTART;TZID=America/Los_Angeles:20250106T143000
DTEND;TZID=America/Los_Angeles:20250106T143000
DTSTAMP:20260419T060903
CREATED:20241219T100849Z
LAST-MODIFIED:20241219T100849Z
UID:864-1736173800-1736173800@seakin.gs
SUMMARY:JV Practice
DESCRIPTION:
URL:https://seakin.gs/event/010625-5
LOCATION:CDM\, 2101 Eastbluff Drive\, Newport Beach\, CA\, 92660\, United States
CATEGORIES:JV Practice
END:VEVENT
END:VCALENDAR